BEGIN:VCALENDAR
VERSION:2.0
PRODID:-//Libertad Colectiva Iberica - ECPv6.15.20//NONSGML v1.0//EN
CALSCALE:GREGORIAN
METHOD:PUBLISH
X-WR-CALNAME:Libertad Colectiva Iberica
X-ORIGINAL-URL:https://libertadcolectivaiberica.com
X-WR-CALDESC:Eventos para Libertad Colectiva Iberica
REFRESH-INTERVAL;VALUE=DURATION:PT1H
X-Robots-Tag:noindex
X-PUBLISHED-TTL:PT1H
BEGIN:VTIMEZONE
TZID:Europe/Helsinki
BEGIN:DAYLIGHT
TZOFFSETFROM:+0200
TZOFFSETTO:+0300
TZNAME:EEST
DTSTART:20220327T010000
END:DAYLIGHT
BEGIN:STANDARD
TZOFFSETFROM:+0300
TZOFFSETTO:+0200
TZNAME:EET
DTSTART:20221030T010000
END:STANDARD
BEGIN:DAYLIGHT
TZOFFSETFROM:+0200
TZOFFSETTO:+0300
TZNAME:EEST
DTSTART:20230326T010000
END:DAYLIGHT
BEGIN:STANDARD
TZOFFSETFROM:+0300
TZOFFSETTO:+0200
TZNAME:EET
DTSTART:20231029T010000
END:STANDARD
BEGIN:DAYLIGHT
TZOFFSETFROM:+0200
TZOFFSETTO:+0300
TZNAME:EEST
DTSTART:20240331T010000
END:DAYLIGHT
BEGIN:STANDARD
TZOFFSETFROM:+0300
TZOFFSETTO:+0200
TZNAME:EET
DTSTART:20241027T010000
END:STANDARD
END:VTIMEZONE
BEGIN:VEVENT
DTSTART;TZID=Europe/Helsinki:20230721T210000
DTEND;TZID=Europe/Helsinki:20230721T233000
DTSTAMP:20260421T215048
CREATED:20230720T141015Z
LAST-MODIFIED:20230720T141015Z
UID:2688-1689973200-1689982200@libertadcolectivaiberica.com
SUMMARY:Acciones Informativas en Alcalá de Henares
DESCRIPTION:
URL:https://libertadcolectivaiberica.com/evento/acciones-informativas-en-alcala-de-henares/
LOCATION:Alcala de Henares – Plaza Cervantes\, C. Libreros\, 2\, Alcalá de Henares\, Madrid\, 28801\, España
CATEGORIES:Acciones Informativas
ATTACH;FMTTYPE=image/jpeg:https://libertadcolectivaiberica.com/wp-content/uploads/2023/07/Acciones_Alcala_21072023.jpeg
END:VEVENT
BEGIN:VEVENT
DTSTART;TZID=Europe/Helsinki:20230720T233000
DTEND;TZID=Europe/Helsinki:20230721T010000
DTSTAMP:20260421T215048
CREATED:20230720T135645Z
LAST-MODIFIED:20230720T140215Z
UID:2685-1689895800-1689901200@libertadcolectivaiberica.com
SUMMARY:Concentración Madrid 23J
DESCRIPTION:Cuando el poder político nos divide para su supervivencia.NOSOTROS NOS UNIMOSTodas las ideologías\, todas las edades\, todas las creencias\, todas las clases sociales.Juntos para poner límites y control al poder político.Participantes:Juan Ramón Rallo\, Coronel Baños\, Ruben Gisbert\, Roma Gallardo\, Inocente Duke\, Aitor Guisasola\, Santiago Armesilla\, La Reunión Secreta\, Manuel Hernández (Plataforma Transportistas)
URL:https://libertadcolectivaiberica.com/evento/concentracion-madrid-23j/
LOCATION:Madrid
CATEGORIES:Concentraciones
ATTACH;FMTTYPE=image/jpeg:https://libertadcolectivaiberica.com/wp-content/uploads/2023/07/JuntosPor.jpeg
END:VEVENT
END:VCALENDAR