BEGIN:VCALENDAR
VERSION:2.0
PRODID:-//Libertad Colectiva Iberica - ECPv6.15.20//NONSGML v1.0//EN
CALSCALE:GREGORIAN
METHOD:PUBLISH
X-WR-CALNAME:Libertad Colectiva Iberica
X-ORIGINAL-URL:https://libertadcolectivaiberica.com
X-WR-CALDESC:Eventos para Libertad Colectiva Iberica
REFRESH-INTERVAL;VALUE=DURATION:PT1H
X-Robots-Tag:noindex
X-PUBLISHED-TTL:PT1H
BEGIN:VTIMEZONE
TZID:Europe/Helsinki
BEGIN:DAYLIGHT
TZOFFSETFROM:+0200
TZOFFSETTO:+0300
TZNAME:EEST
DTSTART:20220327T010000
END:DAYLIGHT
BEGIN:STANDARD
TZOFFSETFROM:+0300
TZOFFSETTO:+0200
TZNAME:EET
DTSTART:20221030T010000
END:STANDARD
BEGIN:DAYLIGHT
TZOFFSETFROM:+0200
TZOFFSETTO:+0300
TZNAME:EEST
DTSTART:20230326T010000
END:DAYLIGHT
BEGIN:STANDARD
TZOFFSETFROM:+0300
TZOFFSETTO:+0200
TZNAME:EET
DTSTART:20231029T010000
END:STANDARD
BEGIN:DAYLIGHT
TZOFFSETFROM:+0200
TZOFFSETTO:+0300
TZNAME:EEST
DTSTART:20240331T010000
END:DAYLIGHT
BEGIN:STANDARD
TZOFFSETFROM:+0300
TZOFFSETTO:+0200
TZNAME:EET
DTSTART:20241027T010000
END:STANDARD
END:VTIMEZONE
BEGIN:VEVENT
DTSTART;TZID=Europe/Helsinki:20231007T170000
DTEND;TZID=Europe/Helsinki:20231007T210000
DTSTAMP:20260421T182448
CREATED:20230913T155105Z
LAST-MODIFIED:20230915T084949Z
UID:5391-1696698000-1696712400@libertadcolectivaiberica.com
SUMMARY:Manifestación El Pueblo Unido
DESCRIPTION:EL MOVIMIENTO DE LA MACRO MANIFESTACIÓN\, HA SIDO CREADO POR NOSOTROSEL PUEBLO. \n\n\n\nSOMOS APARTIDISTAS Y NUESTRA INTENCIÓN ES UNIR EN ESTA LUCHA A TODO EL PUEBLO\, DAR VOZ A TODOS LOS COLECTIVOS QUE ESTÁN LUCHANDO CONTRA LA MALVADA AGENDA 2030 PORQUE NOS PERJUDICA A TODOS LOS CIUDADANOS. \n\n\n\nLA COORDINADORA DE LA MANIFESTACION 7O FORMADA POR MÁS DE 10 PERSONAS EN REPRESENTACIÓN DE ESTOS COLECTIVOS OS INVITA A COLABORAR Y PARTICIPAR \n\n\n\nMás información en la web del organizador
URL:https://libertadcolectivaiberica.com/evento/manifestacion-el-pueblo-unido/
LOCATION:Ministerio de Agenda 2030\, P.º del Prado\, 18\, Madrid\, Madrid\, 28014\, España
CATEGORIES:Manifestaciones
ATTACH;FMTTYPE=image/jpeg:https://libertadcolectivaiberica.com/wp-content/uploads/2023/09/Mani-7OCT-jpg.webp
END:VEVENT
BEGIN:VEVENT
DTSTART;TZID=Europe/Helsinki:20231001T113000
DTEND;TZID=Europe/Helsinki:20231001T133000
DTSTAMP:20260421T182448
CREATED:20230913T101034Z
LAST-MODIFIED:20230915T084758Z
UID:5419-1696159800-1696167000@libertadcolectivaiberica.com
SUMMARY:Acciones en Villaverde
DESCRIPTION:Volvemos a programar la acción que quedó pendiente en Villaverde tras la cancelación del pasado 3 de septiembre por las malas condiciones climatológicas.
URL:https://libertadcolectivaiberica.com/evento/acciones-en-valdemoro-2/
LOCATION:Villaverde\, Plaza Ágata. Villaverde\, Madrid\, Madrid\, 28021\, España
CATEGORIES:Acciones Informativas
ATTACH;FMTTYPE=image/jpeg:https://libertadcolectivaiberica.com/wp-content/uploads/2023/09/Villaverde-1-OCT-jpg.webp
END:VEVENT
BEGIN:VEVENT
DTSTART;TZID=Europe/Helsinki:20230930T170000
DTEND;TZID=Europe/Helsinki:20230930T200000
DTSTAMP:20260421T182448
CREATED:20230905T145516Z
LAST-MODIFIED:20230927T150839Z
UID:5812-1696093200-1696104000@libertadcolectivaiberica.com
SUMMARY:CONCENTRACION CONTRA LA AGENDA 2030 Y CONTRA EL REGIMEN DEL 78
DESCRIPTION:👉👉 ANIMAMOS A COLECTIVOS Y CIUDADANOS DE PROVINCIAS CERCANAS A PARTICIPAR. \n\n\n\nSe ha organizado aprovechando la    ➡️ Cumbre Europea de la Alhambra y la paralela denominada➡️➡️ Cumbre social que convocan sindicatos\, partidos\, ongs y demás paniaguadas del Estado.     Intentan hacer ver a la población que ellos son el pueblo y que la Agenda2030 es nuestra salvación. \n\n\n\nOrganizan: \n\n\n\n\nPolicías por la libertad\n\n\n\nDivoc Granada\n\n\n\nPancartas Amarillas Granada\n\n\n\n\nApoyan: \n\n\n\n\nMálaga por la verdad\n\n\n\nGAME OVER\n\n\n\nVIDA y CONSCIENCIA\n\n\n\nMovimiento Abstencionario\n\n\n\nYo No Pago La Luz\n\n\n\nSalgamos a la calle YA
URL:https://libertadcolectivaiberica.com/evento/concentracion-contra-la-agenda-2030-y-contra-el-regimen-del-78/
LOCATION:Plaza Nueva\, s/n ( Granada )\, Plaza Nueva\, s/n\, Granada\, Granada\, España
CATEGORIES:Concentraciones
ATTACH;FMTTYPE=image/jpeg:https://libertadcolectivaiberica.com/wp-content/uploads/2023/09/Concentracion_Granada-jpg.webp
END:VEVENT
BEGIN:VEVENT
DTSTART;TZID=Europe/Helsinki:20230923T113000
DTEND;TZID=Europe/Helsinki:20230923T133000
DTSTAMP:20260421T182448
CREATED:20230912T094237Z
LAST-MODIFIED:20230915T084747Z
UID:5585-1695468600-1695475800@libertadcolectivaiberica.com
SUMMARY:Acciones en Toledo
DESCRIPTION:Acción interdelegacional: JD Ciudad Real y JD Madrid
URL:https://libertadcolectivaiberica.com/evento/acciones-en-toledo/
LOCATION:Toledo – Teatro de Rojas\, Plaza Mayor\, Toledo\, Toledo\, 45001\, España
CATEGORIES:Acciones Informativas
ATTACH;FMTTYPE=image/jpeg:https://libertadcolectivaiberica.com/wp-content/uploads/2023/09/Toledo-23092023-jpg.webp
END:VEVENT
BEGIN:VEVENT
DTSTART;TZID=Europe/Helsinki:20230921T204500
DTEND;TZID=Europe/Helsinki:20230922T001500
DTSTAMP:20260421T182448
CREATED:20230911T112803Z
LAST-MODIFIED:20230915T084734Z
UID:5733-1695329100-1695341700@libertadcolectivaiberica.com
SUMMARY:Documental Yerma 2030 - La España Vacilada
DESCRIPTION:Documental 2h 29 min. Guión y dirección: Miguel Rix. Música original: Cristina Muneta. (© 2021-2023) \n\n\n\nEste documental es el fruto de 2 años de trabajo\, rodado en gran parte del territorio español: Asturias\, Galicia\, Cantabria\, Castilla La Mancha\, Andalucía\, Valencia\, Cataluña (Delta del Ebro)\, Castilla León\, Extremadura\, Murcia y Canarias. \n\n\n\nA través de 38 entrevistas con ganaderos\, agricultores\, pescadores\, cazadores\, ecologistas y demás personajes del mundo rural\, se narra la situación crítica actual del sector primario español\, exponiendo la nefasta gestión medioambiental de los diferentes gobiernos y de la Unión Europea. \n\n\n\nRetrata en profundidad la mal llamada “energía verde” que pretende sustituir cultivos y explotaciones ganaderas y expone la realidad de la mal llamada “España Vaciada”\, que realmente están vaciando gracias a un plan que nadie ha votado y por tanto\, se trata de la España VaciLada… \n\n\n\n\n\n📍Madrid Miércoles 20/9 ❌AGOTADAS❌📍Madrid Jueves 21/9 Cines VERDI 20:45h📍Barcelona Jueves 28/9 Cines VERDI 20:45h📍Amposta Viernes 29/9 ❌AGOTADAS❌📍Valencia sábado 30/9 Cine YELMO Campanar 11:30h:📍Bilbao sábado 14/10 Cinesa ZUBIARTE 11:00h📍Sevilla jueves 26/10 Multicines LOS ARCOS 21:30h📍Málaga viernes 27/10 Multicines ROSALEDA 21:30h📍Granada sábado 28/10 Kinépolis PULIANAS 11:30h
URL:https://libertadcolectivaiberica.com/evento/documental-yerma-2030-la-espana-vacilada/
LOCATION:Madrid
CATEGORIES:Acciones Informativas
ATTACH;FMTTYPE=image/jpeg:https://libertadcolectivaiberica.com/wp-content/uploads/2023/09/yerma2030_-jpg.webp
END:VEVENT
BEGIN:VEVENT
DTSTART;TZID=Europe/Helsinki:20230917T113000
DTEND;TZID=Europe/Helsinki:20230917T133000
DTSTAMP:20260421T182448
CREATED:20230910T215717Z
LAST-MODIFIED:20230915T084724Z
UID:5578-1694950200-1694957400@libertadcolectivaiberica.com
SUMMARY:Acciones en Plaza de Colón
DESCRIPTION:
URL:https://libertadcolectivaiberica.com/evento/acciones-en-plaza-de-colon/
LOCATION:Acciones en Plaza de Colón\, Plaza de colón Serrano esquna Goya\, Madrid\, 28001\, España
CATEGORIES:Acciones Informativas
ATTACH;FMTTYPE=image/jpeg:https://libertadcolectivaiberica.com/wp-content/uploads/2023/09/Colon-17092023-jpg.webp
END:VEVENT
BEGIN:VEVENT
DTSTART;TZID=Europe/Helsinki:20230910T183000
DTEND;TZID=Europe/Helsinki:20230910T203000
DTSTAMP:20260421T182448
CREATED:20230903T130802Z
LAST-MODIFIED:20230905T130222Z
UID:5405-1694370600-1694377800@libertadcolectivaiberica.com
SUMMARY:Acciones Informativas en Valdemoro
DESCRIPTION:
URL:https://libertadcolectivaiberica.com/evento/acciones-en-valdemoro/
LOCATION:Valdemoro\, Plaza de la piña\, Valdemoro\, Madrid\, 28341\, España
CATEGORIES:Acciones Informativas
ATTACH;FMTTYPE=image/jpeg:https://libertadcolectivaiberica.com/wp-content/uploads/2023/09/IMG_20230903_145948_950-jpg.webp
END:VEVENT
BEGIN:VEVENT
DTSTART;TZID=Europe/Helsinki:20230903T113000
DTEND;TZID=Europe/Helsinki:20230903T133000
DTSTAMP:20260421T182448
CREATED:20230827T192141Z
LAST-MODIFIED:20230905T130135Z
UID:5140-1693740600-1693747800@libertadcolectivaiberica.com
SUMMARY:Acciones Villaverde-Cancelado
DESCRIPTION:
URL:https://libertadcolectivaiberica.com/evento/acciones-villaverde/
LOCATION:Villaverde\, Plaza Ágata. Villaverde\, Madrid\, Madrid\, 28021\, España
CATEGORIES:Acciones Informativas
ATTACH;FMTTYPE=image/jpeg:https://libertadcolectivaiberica.com/wp-content/uploads/2023/08/ACCION-INFORMATIVA_20230902_212801_0000-jpg.webp
END:VEVENT
BEGIN:VEVENT
DTSTART;TZID=Europe/Helsinki:20230827T133000
DTEND;TZID=Europe/Helsinki:20230827T153000
DTSTAMP:20260421T182448
CREATED:20230816T180126Z
LAST-MODIFIED:20230821T114149Z
UID:4629-1693143000-1693150200@libertadcolectivaiberica.com
SUMMARY:Acciones Informativas Parla
DESCRIPTION:
URL:https://libertadcolectivaiberica.com/evento/acciones-informativas-parla/
LOCATION:Parla\, Real 1\, PArla\, Madrid\, 28981\, España
CATEGORIES:Acciones Informativas
ATTACH;FMTTYPE=image/jpeg:https://libertadcolectivaiberica.com/wp-content/uploads/2023/08/Calle-Real-1-Parla-min-jpg.webp
END:VEVENT
BEGIN:VEVENT
DTSTART;TZID=Europe/Helsinki:20230820T133000
DTEND;TZID=Europe/Helsinki:20230820T153000
DTSTAMP:20260421T182448
CREATED:20230814T113648Z
LAST-MODIFIED:20230821T113817Z
UID:4395-1692538200-1692545400@libertadcolectivaiberica.com
SUMMARY:Acción informativa Valdemoro
DESCRIPTION:Aunque estemos en verano no nos vamos de vacaciones. Nuestra labor ha de continuar\, pues el Estado no nos da cuartel. Os esperamos!
URL:https://libertadcolectivaiberica.com/evento/accion-informativa-valdemoro/
LOCATION:Valdemoro\, Estrella de Elola 9\, Valdeoro\, 28341\, España
CATEGORIES:Acciones Informativas
ATTACH;FMTTYPE=image/jpeg:https://libertadcolectivaiberica.com/wp-content/uploads/2023/08/Cartel-Valdemoro-1-jpg.webp
END:VEVENT
BEGIN:VEVENT
DTSTART;TZID=Europe/Helsinki:20230813T133000
DTEND;TZID=Europe/Helsinki:20230813T153000
DTSTAMP:20260421T182448
CREATED:20230809T205654Z
LAST-MODIFIED:20230810T105614Z
UID:4216-1691933400-1691940600@libertadcolectivaiberica.com
SUMMARY:Acción informativa en Getafe
DESCRIPTION:
URL:https://libertadcolectivaiberica.com/evento/accion-informativa-en-getafe/
LOCATION:Getafe\, plaza de la constitución\, Getafe\, Madrid\, 28901\, España
CATEGORIES:Acciones Informativas
ATTACH;FMTTYPE=image/jpeg:https://libertadcolectivaiberica.com/wp-content/uploads/2023/08/Accion-informativa-Getafe-min-jpg.webp
END:VEVENT
BEGIN:VEVENT
DTSTART;TZID=Europe/Helsinki:20230806T133000
DTEND;TZID=Europe/Helsinki:20230806T153000
DTSTAMP:20260421T182448
CREATED:20230805T165727Z
LAST-MODIFIED:20230805T194713Z
UID:3914-1691328600-1691335800@libertadcolectivaiberica.com
SUMMARY:Acción informativa en El Escorial
DESCRIPTION:
URL:https://libertadcolectivaiberica.com/evento/accion-informativa-en-el-escorial/
LOCATION:El Escorial\, Plaza de San Lorenzo\, San Lorenzo de El Escorial\, Madrid\, 28200\, España
CATEGORIES:Acciones Informativas
ATTACH;FMTTYPE=image/jpeg:https://libertadcolectivaiberica.com/wp-content/uploads/2023/08/Accion-El-Escorial-jpg-e1691265209661.webp
END:VEVENT
BEGIN:VEVENT
DTSTART;TZID=Europe/Helsinki:20230721T210000
DTEND;TZID=Europe/Helsinki:20230721T233000
DTSTAMP:20260421T182448
CREATED:20230720T141015Z
LAST-MODIFIED:20230720T141015Z
UID:2688-1689973200-1689982200@libertadcolectivaiberica.com
SUMMARY:Acciones Informativas en Alcalá de Henares
DESCRIPTION:
URL:https://libertadcolectivaiberica.com/evento/acciones-informativas-en-alcala-de-henares/
LOCATION:Alcala de Henares – Plaza Cervantes\, C. Libreros\, 2\, Alcalá de Henares\, Madrid\, 28801\, España
CATEGORIES:Acciones Informativas
ATTACH;FMTTYPE=image/jpeg:https://libertadcolectivaiberica.com/wp-content/uploads/2023/07/Acciones_Alcala_21072023.jpeg
END:VEVENT
BEGIN:VEVENT
DTSTART;TZID=Europe/Helsinki:20230720T233000
DTEND;TZID=Europe/Helsinki:20230721T010000
DTSTAMP:20260421T182448
CREATED:20230720T135645Z
LAST-MODIFIED:20230720T140215Z
UID:2685-1689895800-1689901200@libertadcolectivaiberica.com
SUMMARY:Concentración Madrid 23J
DESCRIPTION:Cuando el poder político nos divide para su supervivencia.NOSOTROS NOS UNIMOSTodas las ideologías\, todas las edades\, todas las creencias\, todas las clases sociales.Juntos para poner límites y control al poder político.Participantes:Juan Ramón Rallo\, Coronel Baños\, Ruben Gisbert\, Roma Gallardo\, Inocente Duke\, Aitor Guisasola\, Santiago Armesilla\, La Reunión Secreta\, Manuel Hernández (Plataforma Transportistas)
URL:https://libertadcolectivaiberica.com/evento/concentracion-madrid-23j/
LOCATION:Madrid
CATEGORIES:Concentraciones
ATTACH;FMTTYPE=image/jpeg:https://libertadcolectivaiberica.com/wp-content/uploads/2023/07/JuntosPor.jpeg
END:VEVENT
END:VCALENDAR